Package: DaMiRseq Version: 2.4.3 Command: /home/biocbuild/bbs-3.13-bioc/R/bin/R CMD check --install=check:DaMiRseq.install-out.txt --library=/home/biocbuild/bbs-3.13-bioc/R/library --no-vignettes --timings DaMiRseq_2.4.3.tar.gz StartedAt: 2021-10-14 09:28:37 -0400 (Thu, 14 Oct 2021) EndedAt: 2021-10-14 09:34:22 -0400 (Thu, 14 Oct 2021) EllapsedTime: 345.0 seconds RetCode: 0 Status: WARNINGS CheckDir: DaMiRseq.Rcheck Warnings: 2