Package: DaMiRseq Version: 2.4.3 Command: rm -rf DaMiRseq.buildbin-libdir && mkdir DaMiRseq.buildbin-libdir && C:\Users\biocbuild\bbs-3.13-bioc\R\bin\R.exe --arch x64 CMD INSTALL --no-multiarch --build --library=DaMiRseq.buildbin-libdir DaMiRseq_2.4.3.tar.gz StartedAt: 2021-10-15 08:51:21 -0400 (Fri, 15 Oct 2021) EndedAt: 2021-10-15 08:53:12 -0400 (Fri, 15 Oct 2021) EllapsedTime: 110.2 seconds RetCode: 0 Status: OK PackageFile: DaMiRseq_2.4.3.zip PackageFileSize: 7.199 MiB