Package: DaMiRseq Version: 2.4.3 Command: chmod a+r DaMiRseq -R && C:\Users\biocbuild\bbs-3.13-bioc\R\bin\R.exe --arch x64 CMD build --keep-empty-dirs --no-resave-data DaMiRseq StartedAt: 2021-10-14 13:13:48 -0400 (Thu, 14 Oct 2021) EndedAt: 2021-10-14 13:25:12 -0400 (Thu, 14 Oct 2021) EllapsedTime: 683.8 seconds RetCode: 0 Status: OK PackageFile: DaMiRseq_2.4.3.tar.gz PackageFileSize: 4.725 MiB