Package: DaMiRseq Version: 2.4.3 Command: C:\Users\biocbuild\bbs-3.13-bioc\R\bin\R.exe --arch x64 CMD check --no-multiarch --install=check:DaMiRseq.install-out.txt --library=C:\Users\biocbuild\bbs-3.13-bioc\R\library --no-vignettes --timings DaMiRseq_2.4.3.tar.gz StartedAt: 2021-10-14 21:54:00 -0400 (Thu, 14 Oct 2021) EndedAt: 2021-10-14 22:00:40 -0400 (Thu, 14 Oct 2021) EllapsedTime: 399.8 seconds RetCode: 0 Status: WARNINGS CheckDir: DaMiRseq.Rcheck Warnings: 2