Package: DegNorm Version: 1.2.0 Command: rm -rf DegNorm.buildbin-libdir && mkdir DegNorm.buildbin-libdir && /Users/biocbuild/BBS/utils/build-universal.sh DegNorm_1.2.0.tar.gz /Library/Frameworks/R.framework/Versions/Current/Resources/bin/R DegNorm.buildbin-libdir StartedAt: 2021-10-15 02:09:33 -0400 (Fri, 15 Oct 2021) EndedAt: 2021-10-15 02:10:44 -0400 (Fri, 15 Oct 2021) EllapsedTime: 70.6 seconds RetCode: 0 Status: OK PackageFile: DegNorm_1.2.0.tgz PackageFileSize: 3.125 MiB