Package: DegNorm Version: 1.2.0 Command: /home/biocbuild/bbs-3.13-bioc/R/bin/R CMD INSTALL DegNorm StartedAt: 2021-10-14 06:24:19 -0400 (Thu, 14 Oct 2021) EndedAt: 2021-10-14 06:25:14 -0400 (Thu, 14 Oct 2021) EllapsedTime: 55.0 seconds RetCode: 0 Status: OK