Package: DegNorm Version: 1.2.0 Command: rm -rf DegNorm.buildbin-libdir && mkdir DegNorm.buildbin-libdir && C:\Users\biocbuild\bbs-3.13-bioc\R\bin\R.exe CMD INSTALL --merge-multiarch --build --library=DegNorm.buildbin-libdir DegNorm_1.2.0.tar.gz StartedAt: 2021-10-15 08:54:33 -0400 (Fri, 15 Oct 2021) EndedAt: 2021-10-15 08:56:05 -0400 (Fri, 15 Oct 2021) EllapsedTime: 91.9 seconds RetCode: 0 Status: OK PackageFile: DegNorm_1.2.0.zip PackageFileSize: 3.798 MiB