Package: DelayedMatrixStats Version: 1.14.3 Command: /home/biocbuild/bbs-3.13-bioc/R/bin/R CMD check --install=check:DelayedMatrixStats.install-out.txt --library=/home/biocbuild/bbs-3.13-bioc/R/library --no-vignettes --timings DelayedMatrixStats_1.14.3.tar.gz StartedAt: 2021-10-14 09:32:28 -0400 (Thu, 14 Oct 2021) EndedAt: 2021-10-14 09:36:38 -0400 (Thu, 14 Oct 2021) EllapsedTime: 250.6 seconds RetCode: 0 Status: OK CheckDir: DelayedMatrixStats.Rcheck Warnings: 0