Package: DelayedMatrixStats Version: 1.14.3 Command: rm -rf DelayedMatrixStats.buildbin-libdir && mkdir DelayedMatrixStats.buildbin-libdir && C:\Users\biocbuild\bbs-3.13-bioc\R\bin\R.exe CMD INSTALL --merge-multiarch --build --library=DelayedMatrixStats.buildbin-libdir DelayedMatrixStats_1.14.3.tar.gz StartedAt: 2021-10-15 08:55:18 -0400 (Fri, 15 Oct 2021) EndedAt: 2021-10-15 08:56:46 -0400 (Fri, 15 Oct 2021) EllapsedTime: 87.8 seconds RetCode: 0 Status: OK PackageFile: DelayedMatrixStats_1.14.3.zip PackageFileSize: 751.2 KiB