Package: DelayedMatrixStats Version: 1.14.3 Command: chmod a+r DelayedMatrixStats -R && C:\Users\biocbuild\bbs-3.13-bioc\R\bin\R.exe CMD build --keep-empty-dirs --no-resave-data DelayedMatrixStats StartedAt: 2021-10-14 13:21:33 -0400 (Thu, 14 Oct 2021) EndedAt: 2021-10-14 13:25:30 -0400 (Thu, 14 Oct 2021) EllapsedTime: 237.0 seconds RetCode: 0 Status: OK PackageFile: DelayedMatrixStats_1.14.3.tar.gz PackageFileSize: 270.4 KiB