Package: DelayedMatrixStats Version: 1.14.3 Command: C:\Users\biocbuild\bbs-3.13-bioc\R\bin\R.exe CMD check --force-multiarch --install=check:DelayedMatrixStats.install-out.txt --library=C:\Users\biocbuild\bbs-3.13-bioc\R\library --no-vignettes --timings DelayedMatrixStats_1.14.3.tar.gz StartedAt: 2021-10-14 22:04:46 -0400 (Thu, 14 Oct 2021) EndedAt: 2021-10-14 22:12:21 -0400 (Thu, 14 Oct 2021) EllapsedTime: 454.3 seconds RetCode: 0 Status: OK CheckDir: DelayedMatrixStats.Rcheck Warnings: 0