Package: DelayedMatrixStats Version: 1.14.3 Command: C:\cygwin\bin\curl.exe -O http://155.52.207.165/BBS/3.13/bioc/src/contrib/DelayedMatrixStats_1.14.3.tar.gz && rm -rf DelayedMatrixStats.buildbin-libdir && mkdir DelayedMatrixStats.buildbin-libdir && C:\Users\biocbuild\bbs-3.13-bioc\R\bin\R.exe CMD INSTALL --merge-multiarch --build --library=DelayedMatrixStats.buildbin-libdir DelayedMatrixStats_1.14.3.tar.gz && C:\Users\biocbuild\bbs-3.13-bioc\R\bin\R.exe CMD INSTALL DelayedMatrixStats_1.14.3.zip && rm DelayedMatrixStats_1.14.3.tar.gz DelayedMatrixStats_1.14.3.zip StartedAt: 2021-10-14 08:42:49 -0400 (Thu, 14 Oct 2021) EndedAt: 2021-10-14 08:43:38 -0400 (Thu, 14 Oct 2021) EllapsedTime: 48.9 seconds RetCode: 0 Status: OK