Package: DiffBind Version: 3.2.7 Command: /home/biocbuild/bbs-3.13-bioc/R/bin/R CMD build --keep-empty-dirs --no-resave-data DiffBind StartedAt: 2021-10-14 07:07:42 -0400 (Thu, 14 Oct 2021) EndedAt: 2021-10-14 07:12:35 -0400 (Thu, 14 Oct 2021) EllapsedTime: 292.2 seconds RetCode: 0 Status: OK PackageFile: DiffBind_3.2.7.tar.gz PackageFileSize: 6.44 MiB