Package: DiffBind Version: 3.2.7 Command: chmod a+r DiffBind -R && C:\Users\biocbuild\bbs-3.13-bioc\R\bin\R.exe CMD build --keep-empty-dirs --no-resave-data DiffBind StartedAt: 2021-10-14 13:27:22 -0400 (Thu, 14 Oct 2021) EndedAt: 2021-10-14 13:33:28 -0400 (Thu, 14 Oct 2021) EllapsedTime: 366.2 seconds RetCode: 0 Status: OK PackageFile: DiffBind_3.2.7.tar.gz PackageFileSize: 6.45 MiB