git_url: https://git.bioconductor.org/packages/DominoEffect git_branch: RELEASE_3_13 git_last_commit: bce8fe8 git_last_commit_date: 2021-05-19 12:33:35 -0400 (Wed, 19 May 2021) Package: DominoEffect Version: 1.12.0 Maintainer: Marija Buljan MaintainerEmail: marija.buljan.2 at gmail.com