Package: DominoEffect Version: 1.12.0 Command: /Library/Frameworks/R.framework/Versions/Current/Resources/bin/R CMD build --keep-empty-dirs --no-resave-data DominoEffect StartedAt: 2021-10-14 11:47:51 -0400 (Thu, 14 Oct 2021) EndedAt: 2021-10-14 11:49:43 -0400 (Thu, 14 Oct 2021) EllapsedTime: 112.2 seconds RetCode: 0 Status: OK PackageFile: DominoEffect_1.12.0.tar.gz PackageFileSize: 473.1 KiB