Package: DominoEffect Version: 1.12.0 Command: /Library/Frameworks/R.framework/Versions/Current/Resources/bin/R CMD check --install=check:DominoEffect.install-out.txt --library=/Library/Frameworks/R.framework/Versions/Current/Resources/library --no-vignettes --timings DominoEffect_1.12.0.tar.gz StartedAt: 2021-10-14 18:32:17 -0400 (Thu, 14 Oct 2021) EndedAt: 2021-10-14 18:39:56 -0400 (Thu, 14 Oct 2021) EllapsedTime: 459.3 seconds RetCode: 0 Status: OK CheckDir: DominoEffect.Rcheck Warnings: 0