Package: DominoEffect Version: 1.12.0 Command: /home/biocbuild/bbs-3.13-bioc/R/bin/R CMD check --install=check:DominoEffect.install-out.txt --library=/home/biocbuild/bbs-3.13-bioc/R/library --no-vignettes --timings DominoEffect_1.12.0.tar.gz StartedAt: 2021-10-14 09:38:21 -0400 (Thu, 14 Oct 2021) EndedAt: 2021-10-14 09:45:07 -0400 (Thu, 14 Oct 2021) EllapsedTime: 405.4 seconds RetCode: 0 Status: OK CheckDir: DominoEffect.Rcheck Warnings: 0