Package: DominoEffect Version: 1.12.0 Command: /home/biocbuild/bbs-3.13-bioc/R/bin/R CMD INSTALL DominoEffect StartedAt: 2021-10-14 06:25:03 -0400 (Thu, 14 Oct 2021) EndedAt: 2021-10-14 06:25:40 -0400 (Thu, 14 Oct 2021) EllapsedTime: 36.3 seconds RetCode: 0 Status: OK