Package: DrugVsDisease Version: 2.34.0 Command: rm -rf DrugVsDisease.buildbin-libdir && mkdir DrugVsDisease.buildbin-libdir && /Users/biocbuild/BBS/utils/build-universal.sh DrugVsDisease_2.34.0.tar.gz /Library/Frameworks/R.framework/Versions/Current/Resources/bin/R DrugVsDisease.buildbin-libdir StartedAt: 2021-10-15 02:15:40 -0400 (Fri, 15 Oct 2021) EndedAt: 2021-10-15 02:16:39 -0400 (Fri, 15 Oct 2021) EllapsedTime: 59.6 seconds RetCode: 0 Status: OK PackageFile: DrugVsDisease_2.34.0.tgz PackageFileSize: 2.666 MiB