Package: DrugVsDisease Version: 2.34.0 Command: /Library/Frameworks/R.framework/Versions/Current/Resources/bin/R CMD build --keep-empty-dirs --no-resave-data DrugVsDisease StartedAt: 2021-10-14 11:49:31 -0400 (Thu, 14 Oct 2021) EndedAt: 2021-10-14 11:50:19 -0400 (Thu, 14 Oct 2021) EllapsedTime: 48.2 seconds RetCode: 0 Status: OK PackageFile: DrugVsDisease_2.34.0.tar.gz PackageFileSize: 1.764 MiB