Package: Dune Version: 1.4.0 Command: /home/biocbuild/bbs-3.13-bioc/R/bin/R CMD build --keep-empty-dirs --no-resave-data Dune StartedAt: 2021-10-14 07:10:48 -0400 (Thu, 14 Oct 2021) EndedAt: 2021-10-14 07:11:21 -0400 (Thu, 14 Oct 2021) EllapsedTime: 33.5 seconds RetCode: 0 Status: OK PackageFile: Dune_1.4.0.tar.gz PackageFileSize: 1.992 MiB