Package: Dune Version: 1.4.0 Command: /home/biocbuild/bbs-3.13-bioc/R/bin/R CMD INSTALL Dune StartedAt: 2021-10-14 06:16:32 -0400 (Thu, 14 Oct 2021) EndedAt: 2021-10-14 06:16:52 -0400 (Thu, 14 Oct 2021) EllapsedTime: 20.3 seconds RetCode: 0 Status: OK