Package: Dune Version: 1.4.0 Command: C:\cygwin\bin\curl.exe -O http://155.52.207.165/BBS/3.13/bioc/src/contrib/Dune_1.4.0.tar.gz && rm -rf Dune.buildbin-libdir && mkdir Dune.buildbin-libdir && C:\Users\biocbuild\bbs-3.13-bioc\R\bin\R.exe CMD INSTALL --merge-multiarch --build --library=Dune.buildbin-libdir Dune_1.4.0.tar.gz && C:\Users\biocbuild\bbs-3.13-bioc\R\bin\R.exe CMD INSTALL Dune_1.4.0.zip && rm Dune_1.4.0.tar.gz Dune_1.4.0.zip StartedAt: 2021-10-14 09:28:38 -0400 (Thu, 14 Oct 2021) EndedAt: 2021-10-14 09:29:28 -0400 (Thu, 14 Oct 2021) EllapsedTime: 50.3 seconds RetCode: 0 Status: OK