Package: EBSeqHMM Version: 1.26.0 Command: rm -rf EBSeqHMM.buildbin-libdir && mkdir EBSeqHMM.buildbin-libdir && C:\Users\biocbuild\bbs-3.13-bioc\R\bin\R.exe CMD INSTALL --merge-multiarch --build --library=EBSeqHMM.buildbin-libdir EBSeqHMM_1.26.0.tar.gz StartedAt: 2021-10-15 09:06:16 -0400 (Fri, 15 Oct 2021) EndedAt: 2021-10-15 09:07:52 -0400 (Fri, 15 Oct 2021) EllapsedTime: 96.6 seconds RetCode: 0 Status: OK PackageFile: EBSeqHMM_1.26.0.zip PackageFileSize: 1.075 MiB