Package: ENCODExplorer Version: 2.18.0 Command: chmod a+r ENCODExplorer -R && C:\Users\biocbuild\bbs-3.13-bioc\R\bin\R.exe CMD build --keep-empty-dirs --no-resave-data ENCODExplorer StartedAt: 2021-10-14 13:41:02 -0400 (Thu, 14 Oct 2021) EndedAt: 2021-10-14 13:44:02 -0400 (Thu, 14 Oct 2021) EllapsedTime: 179.9 seconds RetCode: 0 Status: OK PackageFile: ENCODExplorer_2.18.0.tar.gz PackageFileSize: 1.442 MiB