git_url: https://git.bioconductor.org/packages/ENVISIONQuery git_branch: RELEASE_3_13 git_last_commit: 1cb737f git_last_commit_date: 2021-05-19 11:47:55 -0400 (Wed, 19 May 2021) Package: ENVISIONQuery Version: 1.40.0 Maintainer: Alex Lisovich , Roger Day MaintainerEmail: day01 at pitt.edu