Package: ENVISIONQuery Version: 1.40.0 Command: /Library/Frameworks/R.framework/Versions/Current/Resources/bin/R CMD INSTALL ENVISIONQuery StartedAt: 2021-10-14 08:13:47 -0400 (Thu, 14 Oct 2021) EndedAt: 2021-10-14 08:14:35 -0400 (Thu, 14 Oct 2021) EllapsedTime: 47.7 seconds RetCode: 0 Status: OK