Package: ENVISIONQuery Version: 1.40.0 Command: /home/biocbuild/bbs-3.13-bioc/R/bin/R CMD build --keep-empty-dirs --no-resave-data ENVISIONQuery StartedAt: 2021-10-14 07:12:11 -0400 (Thu, 14 Oct 2021) EndedAt: 2021-10-14 07:12:15 -0400 (Thu, 14 Oct 2021) EllapsedTime: 4.5 seconds RetCode: 1 Status: ERROR PackageFile: None PackageFileSize: NA