Package: ERSSA Version: 1.10.0 Command: /Library/Frameworks/R.framework/Versions/Current/Resources/bin/R CMD build --keep-empty-dirs --no-resave-data ERSSA StartedAt: 2021-10-14 11:58:40 -0400 (Thu, 14 Oct 2021) EndedAt: 2021-10-14 11:59:49 -0400 (Thu, 14 Oct 2021) EllapsedTime: 69.1 seconds RetCode: 0 Status: OK PackageFile: ERSSA_1.10.0.tar.gz PackageFileSize: 2.664 MiB