git_url: https://git.bioconductor.org/packages/EmpiricalBrownsMethod git_branch: RELEASE_3_13 git_last_commit: d216c2c git_last_commit_date: 2021-05-19 12:17:31 -0400 (Wed, 19 May 2021) Package: EmpiricalBrownsMethod Version: 1.20.0 Maintainer: David Gibbs MaintainerEmail: dgibbs at systemsbiology.org