Package: EmpiricalBrownsMethod Version: 1.20.0 Command: chmod a+r EmpiricalBrownsMethod -R && C:\Users\biocbuild\bbs-3.13-bioc\R\bin\R.exe CMD build --keep-empty-dirs --no-resave-data EmpiricalBrownsMethod StartedAt: 2021-10-14 13:40:53 -0400 (Thu, 14 Oct 2021) EndedAt: 2021-10-14 13:41:02 -0400 (Thu, 14 Oct 2021) EllapsedTime: 9.9 seconds RetCode: 0 Status: OK PackageFile: EmpiricalBrownsMethod_1.20.0.tar.gz PackageFileSize: 38.7 KiB