Package: EnMCB Version: 1.4.1 Command: rm -rf EnMCB.buildbin-libdir && mkdir EnMCB.buildbin-libdir && /Users/biocbuild/BBS/utils/build-universal.sh EnMCB_1.4.1.tar.gz /Library/Frameworks/R.framework/Versions/Current/Resources/bin/R EnMCB.buildbin-libdir StartedAt: 2021-10-15 02:18:23 -0400 (Fri, 15 Oct 2021) EndedAt: 2021-10-15 02:19:29 -0400 (Fri, 15 Oct 2021) EllapsedTime: 66.8 seconds RetCode: 0 Status: OK PackageFile: EnMCB_1.4.1.tgz PackageFileSize: 262.6 KiB