Package: EnMCB Version: 1.4.1 Command: /Library/Frameworks/R.framework/Versions/Current/Resources/bin/R CMD check --install=check:EnMCB.install-out.txt --library=/Library/Frameworks/R.framework/Versions/Current/Resources/library --no-vignettes --timings EnMCB_1.4.1.tar.gz StartedAt: 2021-10-14 18:42:54 -0400 (Thu, 14 Oct 2021) EndedAt: 2021-10-14 18:50:47 -0400 (Thu, 14 Oct 2021) EllapsedTime: 472.7 seconds RetCode: 0 Status: OK CheckDir: EnMCB.Rcheck Warnings: 0