Package: EnMCB Version: 1.4.1 Command: /Library/Frameworks/R.framework/Versions/Current/Resources/bin/R CMD INSTALL EnMCB StartedAt: 2021-10-14 10:21:39 -0400 (Thu, 14 Oct 2021) EndedAt: 2021-10-14 10:22:40 -0400 (Thu, 14 Oct 2021) EllapsedTime: 61.3 seconds RetCode: 0 Status: OK