Package: EnMCB Version: 1.4.1 Command: rm -rf EnMCB.buildbin-libdir && mkdir EnMCB.buildbin-libdir && C:\Users\biocbuild\bbs-3.13-bioc\R\bin\R.exe CMD INSTALL --merge-multiarch --build --library=EnMCB.buildbin-libdir EnMCB_1.4.1.tar.gz StartedAt: 2021-10-15 09:08:38 -0400 (Fri, 15 Oct 2021) EndedAt: 2021-10-15 09:10:17 -0400 (Fri, 15 Oct 2021) EllapsedTime: 98.8 seconds RetCode: 0 Status: OK PackageFile: EnMCB_1.4.1.zip PackageFileSize: 292.8 KiB