Package: EnMCB Version: 1.4.1 Command: chmod a+r EnMCB -R && C:\Users\biocbuild\bbs-3.13-bioc\R\bin\R.exe CMD build --keep-empty-dirs --no-resave-data EnMCB StartedAt: 2021-10-14 13:41:19 -0400 (Thu, 14 Oct 2021) EndedAt: 2021-10-14 13:50:57 -0400 (Thu, 14 Oct 2021) EllapsedTime: 578.7 seconds RetCode: 0 Status: OK PackageFile: EnMCB_1.4.1.tar.gz PackageFileSize: 151.8 KiB