Package: EnrichedHeatmap Version: 1.22.0 Command: chmod a+r EnrichedHeatmap -R && C:\Users\biocbuild\bbs-3.13-bioc\R\bin\R.exe CMD build --keep-empty-dirs --no-resave-data EnrichedHeatmap StartedAt: 2021-10-14 13:41:38 -0400 (Thu, 14 Oct 2021) EndedAt: 2021-10-14 14:11:17 -0400 (Thu, 14 Oct 2021) EllapsedTime: 1778.5 seconds RetCode: 0 Status: OK PackageFile: EnrichedHeatmap_1.22.0.tar.gz PackageFileSize: 7.749 MiB