Package: EnrichmentBrowser Version: 2.22.2 Command: rm -rf EnrichmentBrowser.buildbin-libdir && mkdir EnrichmentBrowser.buildbin-libdir && /Users/biocbuild/BBS/utils/build-universal.sh EnrichmentBrowser_2.22.2.tar.gz /Library/Frameworks/R.framework/Versions/Current/Resources/bin/R EnrichmentBrowser.buildbin-libdir StartedAt: 2021-10-15 02:18:40 -0400 (Fri, 15 Oct 2021) EndedAt: 2021-10-15 02:19:51 -0400 (Fri, 15 Oct 2021) EllapsedTime: 70.5 seconds RetCode: 0 Status: OK PackageFile: EnrichmentBrowser_2.22.2.tgz PackageFileSize: 2.116 MiB