Package: EnrichmentBrowser Version: 2.22.2 Command: /Library/Frameworks/R.framework/Versions/Current/Resources/bin/R CMD build --keep-empty-dirs --no-resave-data EnrichmentBrowser StartedAt: 2021-10-14 11:53:17 -0400 (Thu, 14 Oct 2021) EndedAt: 2021-10-14 11:56:32 -0400 (Thu, 14 Oct 2021) EllapsedTime: 194.5 seconds RetCode: 0 Status: OK PackageFile: EnrichmentBrowser_2.22.2.tar.gz PackageFileSize: 1.914 MiB