Package: EnrichmentBrowser Version: 2.22.2 Command: /Library/Frameworks/R.framework/Versions/Current/Resources/bin/R CMD check --install=check:EnrichmentBrowser.install-out.txt --library=/Library/Frameworks/R.framework/Versions/Current/Resources/library --no-vignettes --timings EnrichmentBrowser_2.22.2.tar.gz StartedAt: 2021-10-14 18:43:20 -0400 (Thu, 14 Oct 2021) EndedAt: 2021-10-14 18:50:56 -0400 (Thu, 14 Oct 2021) EllapsedTime: 456.2 seconds RetCode: 0 Status: OK CheckDir: EnrichmentBrowser.Rcheck Warnings: 0