Package: EnrichmentBrowser Version: 2.22.2 Command: /Library/Frameworks/R.framework/Versions/Current/Resources/bin/R CMD INSTALL EnrichmentBrowser StartedAt: 2021-10-14 09:25:08 -0400 (Thu, 14 Oct 2021) EndedAt: 2021-10-14 09:25:53 -0400 (Thu, 14 Oct 2021) EllapsedTime: 45.0 seconds RetCode: 0 Status: OK