Package: EnrichmentBrowser Version: 2.22.2 Command: /home/biocbuild/bbs-3.13-bioc/R/bin/R CMD build --keep-empty-dirs --no-resave-data EnrichmentBrowser StartedAt: 2021-10-14 07:11:55 -0400 (Thu, 14 Oct 2021) EndedAt: 2021-10-14 07:13:47 -0400 (Thu, 14 Oct 2021) EllapsedTime: 111.6 seconds RetCode: 0 Status: OK PackageFile: EnrichmentBrowser_2.22.2.tar.gz PackageFileSize: 1.912 MiB