Package: EnrichmentBrowser Version: 2.22.2 Command: /home/biocbuild/bbs-3.13-bioc/R/bin/R CMD check --install=check:EnrichmentBrowser.install-out.txt --library=/home/biocbuild/bbs-3.13-bioc/R/library --no-vignettes --timings EnrichmentBrowser_2.22.2.tar.gz StartedAt: 2021-10-14 09:43:14 -0400 (Thu, 14 Oct 2021) EndedAt: 2021-10-14 09:48:11 -0400 (Thu, 14 Oct 2021) EllapsedTime: 296.7 seconds RetCode: 0 Status: OK CheckDir: EnrichmentBrowser.Rcheck Warnings: 0