Package: EnrichmentBrowser Version: 2.22.2 Command: /home/biocbuild/bbs-3.13-bioc/R/bin/R CMD INSTALL EnrichmentBrowser StartedAt: 2021-10-14 06:19:28 -0400 (Thu, 14 Oct 2021) EndedAt: 2021-10-14 06:19:55 -0400 (Thu, 14 Oct 2021) EllapsedTime: 27.7 seconds RetCode: 0 Status: OK