Package: EnrichmentBrowser Version: 2.22.2 Command: rm -rf EnrichmentBrowser.buildbin-libdir && mkdir EnrichmentBrowser.buildbin-libdir && C:\Users\biocbuild\bbs-3.13-bioc\R\bin\R.exe CMD INSTALL --merge-multiarch --build --library=EnrichmentBrowser.buildbin-libdir EnrichmentBrowser_2.22.2.tar.gz StartedAt: 2021-10-15 09:09:10 -0400 (Fri, 15 Oct 2021) EndedAt: 2021-10-15 09:10:43 -0400 (Fri, 15 Oct 2021) EllapsedTime: 92.7 seconds RetCode: 0 Status: OK PackageFile: EnrichmentBrowser_2.22.2.zip PackageFileSize: 2.182 MiB