Package: EnrichmentBrowser Version: 2.22.2 Command: chmod a+r EnrichmentBrowser -R && C:\Users\biocbuild\bbs-3.13-bioc\R\bin\R.exe CMD build --keep-empty-dirs --no-resave-data EnrichmentBrowser StartedAt: 2021-10-14 13:42:02 -0400 (Thu, 14 Oct 2021) EndedAt: 2021-10-14 13:44:29 -0400 (Thu, 14 Oct 2021) EllapsedTime: 147.3 seconds RetCode: 0 Status: OK PackageFile: EnrichmentBrowser_2.22.2.tar.gz PackageFileSize: 1.914 MiB