git_url: https://git.bioconductor.org/packages/ExiMiR git_branch: RELEASE_3_13 git_last_commit: 8830d07 git_last_commit_date: 2021-05-19 11:47:16 -0400 (Wed, 19 May 2021) Package: ExiMiR Version: 2.34.0 Maintainer: Sylvain Gubian MaintainerEmail: DL.RSupport at pmi.com