Package: ExiMiR Version: 2.34.0 Command: /home/biocbuild/bbs-3.13-bioc/R/bin/R CMD build --keep-empty-dirs --no-resave-data ExiMiR StartedAt: 2021-10-14 07:14:10 -0400 (Thu, 14 Oct 2021) EndedAt: 2021-10-14 07:15:12 -0400 (Thu, 14 Oct 2021) EllapsedTime: 62.3 seconds RetCode: 0 Status: OK PackageFile: ExiMiR_2.34.0.tar.gz PackageFileSize: 1.296 MiB