Package: ExperimentHubData Version: 1.18.0 Command: /Library/Frameworks/R.framework/Versions/Current/Resources/bin/R CMD INSTALL ExperimentHubData StartedAt: 2021-10-14 10:01:00 -0400 (Thu, 14 Oct 2021) EndedAt: 2021-10-14 10:01:51 -0400 (Thu, 14 Oct 2021) EllapsedTime: 50.3 seconds RetCode: 0 Status: OK